BEGIN:VCALENDAR
VERSION:2.0
PRODID:-//Alaska Outdoor Digest - ECPv4.6.1//NONSGML v1.0//EN
CALSCALE:GREGORIAN
METHOD:PUBLISH
X-WR-CALNAME:Alaska Outdoor Digest
X-ORIGINAL-URL:https://alaskaoutdoordigest.com
X-WR-CALDESC:Events for Alaska Outdoor Digest
BEGIN:VEVENT
DTSTART;TZID=America/Anchorage:20170922T173000
DTEND;TZID=America/Anchorage:20170922T190000
DTSTAMP:20260424T052529
CREATED:20170912T193759Z
LAST-MODIFIED:20170912T193759Z
UID:1940-1506101400-1506106800@alaskaoutdoordigest.com
SUMMARY:Trout Unlimited Happy Hour
DESCRIPTION:Join Trout Unlimited members and fellow anglers for a tasty beverage before the Anchorage showing of the International Fly Fishing Film Festival (IF4). Swap fish stories\, learn about TU’s work to protect & conserve fish habitat in Alaska\, and take action to save Bristol Bay.\nThe happy hour will be in one of 49th State Brewing Company’s “Barrel Rooms\,” located on the lower level of the building. Follow the signs\, flannel\, and fishing hats to find the fun!\nHappy hour starts at 5:30 pm and will end before 7:00 pm so that you can grab a drink and a seat before the films start. \n
URL:https://alaskaoutdoordigest.com/event/trout-unlimited-happy-hour/
LOCATION:717 West Third\, Anchorage\, AK
END:VEVENT
END:VCALENDAR