BEGIN:VCALENDAR
VERSION:2.0
PRODID:-//Alaska Outdoor Digest - ECPv4.6.1//NONSGML v1.0//EN
CALSCALE:GREGORIAN
METHOD:PUBLISH
X-WR-CALNAME:Alaska Outdoor Digest
X-ORIGINAL-URL:https://alaskaoutdoordigest.com
X-WR-CALDESC:Events for Alaska Outdoor Digest
BEGIN:VEVENT
DTSTART;TZID=America/Anchorage:20180411T180000
DTEND;TZID=America/Anchorage:20180411T200000
DTSTAMP:20260423T212645
CREATED:20180405T190213Z
LAST-MODIFIED:20180405T190213Z
UID:2432-1523469600-1523476800@alaskaoutdoordigest.com
SUMMARY:Ship Creek fishing seminar
DESCRIPTION:The Alaska Department of Fish and Game is hosting in conjunction with Dustin Slinker\, owner of The Bait Shack\, a long-time fishing business on Ship Creek banks\, an introductory seminar on fishing for king salmon in Ship Creek at the William Jack Hernandez Sport Fish Hatchery (WJHSFH). This seminar is being held on Wednesday\, April 11\, 2018\, from 6:00 p.m. to 8:00 p.m. in the WJHSFH conference room which is located at 941 North Reeve Boulevard\, Anchorage. \nThis is a free event for all angler levels who are interested in learning tips and techniques to help land a king salmon at Anchorage’s most popular urban salmon fishery. Located in the heart of the industrial area of downtown Anchorage\, Ship Creek is the perfect spot to cast a line before work\, during lunch\, and after work. The king salmon returning to the Ship Creek fishery are stocked from the WJHSFH\, just three miles up from the mouth of the creek. \nAdvanced registration is required\, and space is limited\, so sign up early! To register please contact the Anchorage Sport Fish Information Center at (907) 267-2218. \n
URL:https://alaskaoutdoordigest.com/event/ship-creek-fishing-seminar/
END:VEVENT
END:VCALENDAR