BEGIN:VCALENDAR
VERSION:2.0
PRODID:-//Alaska Outdoor Digest - ECPv4.6.1//NONSGML v1.0//EN
CALSCALE:GREGORIAN
METHOD:PUBLISH
X-WR-CALNAME:Alaska Outdoor Digest
X-ORIGINAL-URL:https://alaskaoutdoordigest.com
X-WR-CALDESC:Events for Alaska Outdoor Digest
BEGIN:VEVENT
DTSTART;TZID=America/Anchorage:20180520T140000
DTEND;TZID=America/Anchorage:20180520T170000
DTSTAMP:20260423T200151
CREATED:20180517T183219Z
LAST-MODIFIED:20180517T183219Z
UID:2489-1526824800-1526835600@alaskaoutdoordigest.com
SUMMARY:Ship Creek Cleanup Day
DESCRIPTION:Annual cleanup of America’s most popular urban fishery.  Volunteers wanted.  Meet at Bait Shack at 2 p.m.   Trash bags will be provided. \n
URL:https://alaskaoutdoordigest.com/event/ship-creek-cleanup-day/
LOCATION:211 Ship Creek Avenue\, Anchorage\, AK\, 99501\, United States
END:VEVENT
END:VCALENDAR