BEGIN:VCALENDAR
VERSION:2.0
PRODID:-//Alaska Outdoor Digest - ECPv4.6.1//NONSGML v1.0//EN
CALSCALE:GREGORIAN
METHOD:PUBLISH
X-WR-CALNAME:Alaska Outdoor Digest
X-ORIGINAL-URL:https://alaskaoutdoordigest.com
X-WR-CALDESC:Events for Alaska Outdoor Digest
BEGIN:VEVENT
DTSTART;TZID=America/Anchorage:20170608T180000
DTEND;TZID=America/Anchorage:20170608T210000
DTSTAMP:20260424T004555
CREATED:20170607T170338Z
LAST-MODIFIED:20170607T170338Z
UID:1534-1496944800-1496955600@alaskaoutdoordigest.com
SUMMARY:Resident Hunters of Alaska Interior chapter
DESCRIPTION:RHAK will be hosting a meeting for all Interior members on Thursday evening June 8\, 6-9 p.m. At the Airpark Pavillion on the East Ramp of the Fairbanks airport. We are able to use this venue through our aviation community members. Our Guest Speaker will be RHAK member Jim Low\, retired Alaska Wildlife Trooper\, pilot\, and Hunter Education instructor. Jim will talk about hunting do’s and don’ts and the Hunter Ed program at 7 p.m. \nWe will be bbq-ing burgers. Families are invited. Please bring any side dishes and we will also provide beverages (water\, soda\, beer)\, We look forward to a good attendance as we try to hold more informative meetings for our members and keep you up to date on what we’ve been doing and working on and plans for the future. \nDirections to the Airpark: Take University Avenue south as if you were going to the east ramp of the airport. After crossing the Mitchell Expressway\, take the first right turn. You will have to go past a security gate that has a sensor to open when cars approach. After going through the gate\, it will be the first right turn to the Airpark Pavilion. Signs will be up\, we want to ensure no one drives onto active runway. We would appreciate RSVPs from members who intend to attend so we can gauge how many burgers etc we will need. \nContact Mark Richards at 371-7436 or by email at info@residenthuntersofalaska.org \n
URL:https://alaskaoutdoordigest.com/event/resident-hunters-of-alaska-interior-chapter/
END:VEVENT
END:VCALENDAR