BEGIN:VCALENDAR
VERSION:2.0
PRODID:-//Alaska Outdoor Digest - ECPv4.6.1//NONSGML v1.0//EN
CALSCALE:GREGORIAN
METHOD:PUBLISH
X-WR-CALNAME:Alaska Outdoor Digest
X-ORIGINAL-URL:https://alaskaoutdoordigest.com
X-WR-CALDESC:Events for Alaska Outdoor Digest
BEGIN:VEVENT
DTSTART;VALUE=DATE:20170611
DTEND;VALUE=DATE:20170612
DTSTAMP:20260423T215410
CREATED:20170608T200855Z
LAST-MODIFIED:20170608T210147Z
UID:1539-1497139200-1497225599@alaskaoutdoordigest.com
SUMMARY:Opening Day Russian River and Upper Kenai
DESCRIPTION:Russian River and Upper Kenai River open to sportfishing for salmon\, rainbow trout and Dolly Varden at 12:01 a.m. June 11.  Traditional kickoff to the fishing summer for many Alaska families.  Single hook only. Sockeye salmon limit three per day. \n
URL:https://alaskaoutdoordigest.com/event/opening-day-russian-river-and-upper-kenai/
END:VEVENT
END:VCALENDAR