BEGIN:VCALENDAR
VERSION:2.0
PRODID:-//Alaska Outdoor Digest - ECPv4.6.1//NONSGML v1.0//EN
CALSCALE:GREGORIAN
METHOD:PUBLISH
X-WR-CALNAME:Alaska Outdoor Digest
X-ORIGINAL-URL:https://alaskaoutdoordigest.com
X-WR-CALDESC:Events for Alaska Outdoor Digest
BEGIN:VEVENT
DTSTART;TZID=America/Anchorage:20170520T090000
DTEND;TZID=America/Anchorage:20170520T130000
DTSTAMP:20260424T040711
CREATED:20170519T185457Z
LAST-MODIFIED:20170519T185457Z
UID:1377-1495270800-1495285200@alaskaoutdoordigest.com
SUMMARY:Family Fishing Day at Tanana Lakes Rec Area
DESCRIPTION:The Alaska Department of Fish and Game will be hosting Fairbanks Family Fishing Day onSaturday\, May 20\, from 9:00 AM to 1:00 PM\, at Cushman Lake in the Tanana Lakes Recreation Area. \n\nThe lake will be stocked with over 6\,500 rainbow trout. Kids under the age of 18 are invited to participate in a derby to win a rod/reel outfit\, if they catch a tagged fish. No fishing license is required for residents under the age of 18 and nonresidents under the age of 16. Youth must be accompanied by an adult. \nParticipants are encouraged to bring their own fishing gear. For those without fishing equipment\, there will be a limited number of rods to lend. Non-motorized boats\, canoes\, and rafts can be used on the lake. \nAll anglers can sign up at the pavilion for their chance at a door prize. \nFor more information\, call 907 459-7228. \n\n
URL:https://alaskaoutdoordigest.com/event/family-fishing-day-at-tanana-lakes-rec-area/
END:VEVENT
END:VCALENDAR