BEGIN:VCALENDAR
VERSION:2.0
PRODID:-//Alaska Outdoor Digest - ECPv4.6.1//NONSGML v1.0//EN
CALSCALE:GREGORIAN
METHOD:PUBLISH
X-WR-CALNAME:Alaska Outdoor Digest
X-ORIGINAL-URL:https://alaskaoutdoordigest.com
X-WR-CALDESC:Events for Alaska Outdoor Digest
BEGIN:VEVENT
DTSTART;TZID=America/Anchorage:20171107T183000
DTEND;TZID=America/Anchorage:20171107T203000
DTSTAMP:20260424T065118
CREATED:20171031T173744Z
LAST-MODIFIED:20171031T173744Z
UID:2113-1510079400-1510086600@alaskaoutdoordigest.com
SUMMARY:Anchorage Advisory Committee
DESCRIPTION:The Anchorage Fish & Game Advisory Committee will meet on Tuesday\, November 7 at the Cabela’s conference room\, located at 155 W 104th Avenue at 6:30 pm.  Agenda will include an updated report from the Fortymile Harvest Management Coalition meeting in Tok and BOF PWS proposal recommendations.  The proposals that were voted unanimously by the subcommittee will not be taken up at the full committee meeting unless someone feels strongly against how the subcommittee voted and wants a discussion.  The list of split votes that will be discussed is as follows:  17\, 22\, 37\, 38\, 42\, we will also discuss proposal 41 since Shawna Williams is the author of the proposal. Please review and be prepared to discuss at the meeting.  Along with any other business that may properly come before the committee. For more information contact Frank Neumann at 529-0892. \n
URL:https://alaskaoutdoordigest.com/event/anchorage-advisory-committee/
LOCATION:155 W 104th Avenue\, Anchorage\, AK
END:VEVENT
END:VCALENDAR