BEGIN:VCALENDAR
VERSION:2.0
PRODID:-//Alaska Outdoor Digest - ECPv4.6.1//NONSGML v1.0//EN
CALSCALE:GREGORIAN
METHOD:PUBLISH
X-WR-CALNAME:Alaska Outdoor Digest
X-ORIGINAL-URL:https://alaskaoutdoordigest.com
X-WR-CALDESC:Events for Alaska Outdoor Digest
BEGIN:VEVENT
DTSTART;VALUE=DATE:20180414
DTEND;VALUE=DATE:20180415
DTSTAMP:20260423T184423
CREATED:20180217T211413Z
LAST-MODIFIED:20180217T211413Z
UID:2335-1523664000-1523750399@alaskaoutdoordigest.com
SUMMARY:Alaska Wild Sheep Foundation Banquet
DESCRIPTION:Annual banquet and fundraiser\, Dena’ina Center. Seminars all day leading up to evening banquet. Tickets and more information kevinkehoe@alaskan.com. \n  \n
URL:https://alaskaoutdoordigest.com/event/alaska-wild-sheep-foundation-banquet/
LOCATION:600 west 6th\, Anchorage\, AK 99516\, AK\, United States
END:VEVENT
END:VCALENDAR