BEGIN:VCALENDAR
VERSION:2.0
PRODID:-//Alaska Outdoor Digest - ECPv4.6.1//NONSGML v1.0//EN
CALSCALE:GREGORIAN
METHOD:PUBLISH
X-WR-CALNAME:Alaska Outdoor Digest
X-ORIGINAL-URL:https://alaskaoutdoordigest.com
X-WR-CALDESC:Events for Alaska Outdoor Digest
BEGIN:VEVENT
DTSTART;TZID=America/Anchorage:20180414T180000
DTEND;TZID=America/Anchorage:20180414T210000
DTSTAMP:20260423T183223
CREATED:20180217T211738Z
LAST-MODIFIED:20180217T213151Z
UID:2337-1523728800-1523739600@alaskaoutdoordigest.com
SUMMARY:Alaska Waterfowl Association Banquet
DESCRIPTION:Spring banquet and fundraiser. Silent and live auctions\, raffles\, door prizes. Eagle River Lions Club. 6 p.m.   AKWaterfowl.com. \nAlaskaWaterfowlAssociation@gmail.com.  Only 200 tickets sold. \n
URL:https://alaskaoutdoordigest.com/event/alaska-waterfowl-association-banquet/
LOCATION:18344 Eagle River Road\, Eagle River\, AK
END:VEVENT
END:VCALENDAR