BEGIN:VCALENDAR
VERSION:2.0
PRODID:-//Alaska Outdoor Digest - ECPv4.6.1//NONSGML v1.0//EN
CALSCALE:GREGORIAN
METHOD:PUBLISH
X-WR-CALNAME:Alaska Outdoor Digest
X-ORIGINAL-URL:http://alaskaoutdoordigest.com
X-WR-CALDESC:Events for Alaska Outdoor Digest
BEGIN:VEVENT
DTSTART;TZID=America/Anchorage:20171104T130000
DTEND;TZID=America/Anchorage:20171104T150000
DTSTAMP:20260424T052947
CREATED:20171010T210529Z
LAST-MODIFIED:20171010T210529Z
UID:2022-1509800400-1509807600@alaskaoutdoordigest.com
SUMMARY:Whittier Fish Game Advisory Committee
DESCRIPTION:The Whittier Fish & Game Advisory Committee will hold elections on Saturday\, Nov. 4 at the Anchor Inn\, located at 743 Whittier St at 1 p.m.  Agenda will also include preparing comments for the Board of Fisheries PWS proposals and any other business that may properly come before the committee.  For more information contact Jon Van Hyning at 907-355-3050. \n
URL:http://alaskaoutdoordigest.com/event/whittier-fish-game-advisory-committee/
END:VEVENT
END:VCALENDAR