BEGIN:VCALENDAR
VERSION:2.0
PRODID:-//Alaska Outdoor Digest - ECPv4.6.1//NONSGML v1.0//EN
CALSCALE:GREGORIAN
METHOD:PUBLISH
X-WR-CALNAME:Alaska Outdoor Digest
X-ORIGINAL-URL:http://alaskaoutdoordigest.com
X-WR-CALDESC:Events for Alaska Outdoor Digest
BEGIN:VEVENT
DTSTART;TZID=America/Anchorage:20180111T173000
DTEND;TZID=America/Anchorage:20180111T193000
DTSTAMP:20260424T055438
CREATED:20180103T203205Z
LAST-MODIFIED:20180103T203205Z
UID:2238-1515691800-1515699000@alaskaoutdoordigest.com
SUMMARY:Valdez Fish & Game Advisory Committee
DESCRIPTION:The Valdez Fish & Game Advisory Committee will hold a meeting on Thursday\, January 11\, 2018 beginning at 5:30 pm with orientation\, followed by elections at the Valdez Council Chambers located at 212 Chenega Street.  Also on the agenda will be discussion of BOF shellfish proposals.  For more information contact Sherry Wright at 267-2354. \n
URL:http://alaskaoutdoordigest.com/event/valdez-fish-game-advisory-committee/
END:VEVENT
END:VCALENDAR