BEGIN:VCALENDAR
VERSION:2.0
PRODID:-//Alaska Outdoor Digest - ECPv4.6.1//NONSGML v1.0//EN
CALSCALE:GREGORIAN
METHOD:PUBLISH
X-WR-CALNAME:Alaska Outdoor Digest
X-ORIGINAL-URL:http://alaskaoutdoordigest.com
X-WR-CALDESC:Events for Alaska Outdoor Digest
BEGIN:VEVENT
DTSTART;TZID=America/Anchorage:20171026T130000
DTEND;TZID=America/Anchorage:20171026T170000
DTSTAMP:20260424T022558
CREATED:20171023T164204Z
LAST-MODIFIED:20171023T164204Z
UID:2083-1509022800-1509037200@alaskaoutdoordigest.com
SUMMARY:Tyonek Fish Game Advisory Committee
DESCRIPTION:The Tyonek Fish & Game Advisory Committee will meet on Thursday\, October 26th at 1 pm at the Tribal Council office. Agenda will include preparing comments on the Board of Game proposals. For more information contact Alex Pfoff at 281-732-3805.\n
URL:http://alaskaoutdoordigest.com/event/tyonek-fish-game-advisory-committee/
END:VEVENT
END:VCALENDAR