BEGIN:VCALENDAR
VERSION:2.0
PRODID:-//Alaska Outdoor Digest - ECPv4.6.1//NONSGML v1.0//EN
CALSCALE:GREGORIAN
METHOD:PUBLISH
X-WR-CALNAME:Alaska Outdoor Digest
X-ORIGINAL-URL:http://alaskaoutdoordigest.com
X-WR-CALDESC:Events for Alaska Outdoor Digest
BEGIN:VEVENT
DTSTART;TZID=America/Anchorage:20171024T170000
DTEND;TZID=America/Anchorage:20171024T170000
DTSTAMP:20260424T023506
CREATED:20171023T164115Z
LAST-MODIFIED:20171023T164115Z
UID:2081-1508864400-1508864400@alaskaoutdoordigest.com
SUMMARY:Tok Cutoff/Nabesna Fish Game Advisory Committee
DESCRIPTION:The Tok Cutoff/Nabesna Road Fish & Game Advisory Committee will meetTuesday\, October 24th at the Slana School\, located at Mile 1\, Nabesna Road in Slana at 5 pm. Agenda will include preparing recommendations for the Statewide Board of Game proposals and any other business that may properly come before the committee. For more information contact Ernie Charley at 320-5666. \n
URL:http://alaskaoutdoordigest.com/event/tok-cutoffnabesna-fish-game-advisory-committee/
END:VEVENT
END:VCALENDAR