BEGIN:VCALENDAR
VERSION:2.0
PRODID:-//Alaska Outdoor Digest - ECPv4.6.1//NONSGML v1.0//EN
CALSCALE:GREGORIAN
METHOD:PUBLISH
X-WR-CALNAME:Alaska Outdoor Digest
X-ORIGINAL-URL:http://alaskaoutdoordigest.com
X-WR-CALDESC:Events for Alaska Outdoor Digest
BEGIN:VEVENT
DTSTART;TZID=America/Anchorage:20171116T180000
DTEND;TZID=America/Anchorage:20171116T200000
DTSTAMP:20260424T100415
CREATED:20171114T162236Z
LAST-MODIFIED:20171114T162236Z
UID:2133-1510855200-1510862400@alaskaoutdoordigest.com
SUMMARY:Southcentral Trout Unlimited
DESCRIPTION:Join us in the upstairs room at King Street Brewing Company for our first Chapter Meeting of the fall. Trout Unlimited Alaska staff member and Southeast fly fishing legend\, Mark Hieronymus\, will be our guest of honor as we dive into the topic of steelhead in Southeast Alaska. \nJoin us at 6:00 pm\, doors open at 6:30 pm. This event is free and open to the public. You do not have to be a member to join! \n
URL:http://alaskaoutdoordigest.com/event/southcentral-trout-unlimited/
END:VEVENT
END:VCALENDAR