BEGIN:VCALENDAR
VERSION:2.0
PRODID:-//Alaska Outdoor Digest - ECPv4.6.1//NONSGML v1.0//EN
CALSCALE:GREGORIAN
METHOD:PUBLISH
X-WR-CALNAME:Alaska Outdoor Digest
X-ORIGINAL-URL:http://alaskaoutdoordigest.com
X-WR-CALDESC:Events for Alaska Outdoor Digest
BEGIN:VEVENT
DTSTART;TZID=America/Anchorage:20170512T093000
DTEND;TZID=America/Anchorage:20170512T170000
DTSTAMP:20260424T022710
CREATED:20170507T171555Z
LAST-MODIFIED:20170507T172142Z
UID:1254-1494581400-1494608400@alaskaoutdoordigest.com
SUMMARY:Shoot for the Cure Sporting Clays Shoot
DESCRIPTION:\n\n\n\n\n\n\n\n\n\n\n\n\n\n\n\n\n\n\nBirchwood Recreation and Shooting Park \nFriday May 12th\, 2017 \nFirst guns up 9:30 a.m. \nRound of 100: Walk-Through Sporting Clays! Entry fee includes targets shells BBQ sponsored by Little Red Services Raffle drawings Shoot for the Cure Mission: To lift the fundraising burden from the shoulders of families and patients with Cystic Fibrosis. To raise awareness of Cystic Fibrosis\, and to alleviate suffering\, advance quality of life\, and be sensitive to the needs of patients in Alaska.\n\n\n\n\n\n\n\n\n\n\n\n\n\n\n\n\n\n\n\n\n\n\n\n\n\n\n\n\n\n\n\nType a message…\n\n\n\n\n\n\n\n
URL:http://alaskaoutdoordigest.com/event/shoot-for-the-cure-sporting-clays-shoot/
END:VEVENT
END:VCALENDAR