BEGIN:VCALENDAR
VERSION:2.0
PRODID:-//Alaska Outdoor Digest - ECPv4.6.1//NONSGML v1.0//EN
CALSCALE:GREGORIAN
METHOD:PUBLISH
X-WR-CALNAME:Alaska Outdoor Digest
X-ORIGINAL-URL:http://alaskaoutdoordigest.com
X-WR-CALDESC:Events for Alaska Outdoor Digest
BEGIN:VEVENT
DTSTART;TZID=America/Anchorage:20170511T180000
DTEND;TZID=America/Anchorage:20170511T210000
DTSTAMP:20260423T231937
CREATED:20170506T133711Z
LAST-MODIFIED:20170507T171216Z
UID:1240-1494525600-1494536400@alaskaoutdoordigest.com
SUMMARY:Shoot For The Cure Banquet and Auction
DESCRIPTION:Cocktails 5:30 p.m.\nDinner 6:30 p.m.\nLive and Silent Auction\nRaffles \nPARTICIPANTS NO CHARGE\nGUESTS $50.00 DINNER DONATION\nRESERVED TABLES BY REQUEST ONLY \nShoot for the Cure Mission:\nTo lift the fundraising burden from the shoulders of families and patients with Cystic Fibrosis. To raise awareness of Cystic Fibrosis\, and to alleviate suffering\, advance quality of life\, and be sensitive to the needs of patients in Alaska. \n  \n  \nFrom Karen Rey\, founder of Alaska’s Shoot For The Cure: \nThank you to all who are coming to the Banquet! I’m burnin’ the midnight oil\, getting Live and Silents in order. We have some true lovelies to offer! From Delta Waterfowl gear\, to exquisite quilts\, and such lovely\, lovely jewelry in the Silent auction line up! We have a heavily laden RED-NECK Spa Day Raffle\, with two drawings; one a shotgun\, membership to BSRP\, and 2nd drawing is a hefty Spa and Beauty array of items. All well over $500 in value! The 65 Roses Raffle is a signature offering! As is our Heads or Tails! Fun! Fun! We have a guest speaker\, who will share her journey with cystic fibrosis and we have Rohn Nelson who will be belting out the Live Auction Line up in his usual humorous manner! What else do you have to to on a Thursday night? It’s a cheap date! $50 donation for dinner\, beer and wine included\, games of chance that will have you enjoying your cozy night at a great venue – Petroleum Club of Anchorage! \nTo those who know the struggles of those with CF\, where will you be on May 11th? See you there!\nwww.alaskacfshoot.org \n
URL:http://alaskaoutdoordigest.com/event/shoot-for-the-cure-banquet-and-auction/
LOCATION:Anchorage \, AK \, United States
END:VEVENT
END:VCALENDAR