BEGIN:VCALENDAR
VERSION:2.0
PRODID:-//Alaska Outdoor Digest - ECPv4.6.1//NONSGML v1.0//EN
CALSCALE:GREGORIAN
METHOD:PUBLISH
X-WR-CALNAME:Alaska Outdoor Digest
X-ORIGINAL-URL:http://alaskaoutdoordigest.com
X-WR-CALDESC:Events for Alaska Outdoor Digest
BEGIN:VEVENT
DTSTART;TZID=UTC+0:20170413T190000
DTEND;TZID=UTC+0:20170413T210000
DTSTAMP:20260424T200921
CREATED:20170403T233739Z
LAST-MODIFIED:20170404T060049Z
UID:726-1492110000-1492117200@alaskaoutdoordigest.com
SUMMARY:Seward Fish & Game Advisory Committee
DESCRIPTION:The Seward Fish & Game Advisory Committee will hold an election meeting on Thursday\, April 13 at 7 pm at the City Council chambers\, 410 Adams Street.  Also on the agenda will be an update of BOF and BOG meetings.  For more information\, Jim McCracken 362-3701. \n
URL:http://alaskaoutdoordigest.com/event/seward-fish-game-advisory-committee/
END:VEVENT
END:VCALENDAR