BEGIN:VCALENDAR
VERSION:2.0
PRODID:-//Alaska Outdoor Digest - ECPv4.6.1//NONSGML v1.0//EN
CALSCALE:GREGORIAN
METHOD:PUBLISH
X-WR-CALNAME:Alaska Outdoor Digest
X-ORIGINAL-URL:http://alaskaoutdoordigest.com
X-WR-CALDESC:Events for Alaska Outdoor Digest
BEGIN:VEVENT
DTSTART;VALUE=DATE:20170804
DTEND;VALUE=DATE:20170807
DTSTAMP:20260424T022412
CREATED:20170527T190948Z
LAST-MODIFIED:20170527T191125Z
UID:1477-1501804800-1502063999@alaskaoutdoordigest.com
SUMMARY:Salmonfest
DESCRIPTION:Annual celebration of all things Salmon\, sponsored by and supporting the Kachemak Bay Conservation Society. Performances by 18 musical groups and headlined by Homer native Jewel.  At the Kenai Peninsula Fairgrounds in Ninilchik. \n
URL:http://alaskaoutdoordigest.com/event/salmonfest/
LOCATION:Ninilchik\, AK
END:VEVENT
END:VCALENDAR