BEGIN:VCALENDAR
VERSION:2.0
PRODID:-//Alaska Outdoor Digest - ECPv4.6.1//NONSGML v1.0//EN
CALSCALE:GREGORIAN
METHOD:PUBLISH
X-WR-CALNAME:Alaska Outdoor Digest
X-ORIGINAL-URL:http://alaskaoutdoordigest.com
X-WR-CALDESC:Events for Alaska Outdoor Digest
BEGIN:VEVENT
DTSTART;TZID=UTC+0:20170417T190000
DTEND;TZID=UTC+0:20170417T190000
DTSTAMP:20260424T184952
CREATED:20170406T162317Z
LAST-MODIFIED:20170416T031607Z
UID:772-1492455600-1492455600@alaskaoutdoordigest.com
SUMMARY:Public Meeting on Chugach Electric proposed dams on Snow River
DESCRIPTION:Chugach Electric will have two public meetings in April on the three hydroelectric dams the utility has proposed to build on the Snow River\, an important tributary of the Kenai River. Those public meetings be April 17 at the Lakefront Anchorage Hotel and April 18 at the Moose Pass Community Hall (near the proposed dams)\, both at 7 p.m.  Learn more about the concerns within the fishing community at NoKenaiDam.org. \n
URL:http://alaskaoutdoordigest.com/event/public-meeting-on-chugach-electric-proposed-dams-on-snow-river/
ATTACH;FMTTYPE=image/png:http://alaskaoutdoordigest.com/wp-content/uploads/2017/03/snow-river.png
END:VEVENT
END:VCALENDAR