BEGIN:VCALENDAR
VERSION:2.0
PRODID:-//Alaska Outdoor Digest - ECPv4.6.1//NONSGML v1.0//EN
CALSCALE:GREGORIAN
METHOD:PUBLISH
X-WR-CALNAME:Alaska Outdoor Digest
X-ORIGINAL-URL:http://alaskaoutdoordigest.com
X-WR-CALDESC:Events for Alaska Outdoor Digest
BEGIN:VEVENT
DTSTART;TZID=UTC+0:20170418T190000
DTEND;TZID=UTC+0:20170418T190000
DTSTAMP:20260424T172611
CREATED:20170406T162448Z
LAST-MODIFIED:20170406T162448Z
UID:775-1492542000-1492542000@alaskaoutdoordigest.com
SUMMARY:Moose Pass Chugach Electric meeting on proposed Snow River Dam
DESCRIPTION:Chugach Electric will have two public meetings in April on the three hydroelectric dams the utility has proposed to build on the Snow River\, an important tributary of the Kenai River. Those public meetings be April 17 at the Lakefront Anchorage Hotel and April 18 at the Moose Pass Community Hall (near the proposed dams)\, both at 7 p.m.  Learn more about the concerns within the fishing community at NoKenaiDam.org. \n
URL:http://alaskaoutdoordigest.com/event/moose-pass-chugach-electric-meeting-on-proposed-snow-river-dam/
END:VEVENT
END:VCALENDAR