BEGIN:VCALENDAR
VERSION:2.0
PRODID:-//Alaska Outdoor Digest - ECPv4.6.1//NONSGML v1.0//EN
CALSCALE:GREGORIAN
METHOD:PUBLISH
X-WR-CALNAME:Alaska Outdoor Digest
X-ORIGINAL-URL:http://alaskaoutdoordigest.com
X-WR-CALDESC:Events for Alaska Outdoor Digest
BEGIN:VEVENT
DTSTART;TZID=UTC+0:20170419T190000
DTEND;TZID=UTC+0:20170419T190000
DTSTAMP:20260424T143545
CREATED:20170406T161925Z
LAST-MODIFIED:20170406T161925Z
UID:768-1492628400-1492628400@alaskaoutdoordigest.com
SUMMARY:Mat Valley Fish & Game Advisory Committee
DESCRIPTION:The Mat Valley Fish & Game Advisory Committee will hold an election meeting on Wednesday\, April 19\, 7 pm\, tentatively at the Wasilla High School Auditorium\, located at 701 E Bogard Road.  For more information and to confirm location of this meeting\, contact Jehnifer Ehmann at jehnifer.ehmann@mtaonline.net \n
URL:http://alaskaoutdoordigest.com/event/mat-valley-fish-game-advisory-committee/
END:VEVENT
END:VCALENDAR