BEGIN:VCALENDAR
VERSION:2.0
PRODID:-//Alaska Outdoor Digest - ECPv4.6.1//NONSGML v1.0//EN
CALSCALE:GREGORIAN
METHOD:PUBLISH
X-WR-CALNAME:Alaska Outdoor Digest
X-ORIGINAL-URL:http://alaskaoutdoordigest.com
X-WR-CALDESC:Events for Alaska Outdoor Digest
BEGIN:VEVENT
DTSTART;TZID=America/Anchorage:20180110T190000
DTEND;TZID=America/Anchorage:20180110T210000
DTSTAMP:20260424T054058
CREATED:20180103T203106Z
LAST-MODIFIED:20180103T203106Z
UID:2236-1515610800-1515618000@alaskaoutdoordigest.com
SUMMARY:Mat Valley Fish & Game Advisory Committee
DESCRIPTION:The Mat Valley Fish & Game Advisory Committee will meet on Wednesday\, January 10\, 2018 at 7 pm at the MTA building\, located at 480 Commercial Drive\, Palmer.  Agenda will include continued discussion on Board of Game Central/SW Region proposals\, and any other business that may properly come before the committee.  For more information contact Herb Mansavage at 841-8928. \n
URL:http://alaskaoutdoordigest.com/event/mat-valley-fish-game-advisory-committee-3/
END:VEVENT
END:VCALENDAR