BEGIN:VCALENDAR
VERSION:2.0
PRODID:-//Alaska Outdoor Digest - ECPv4.6.1//NONSGML v1.0//EN
CALSCALE:GREGORIAN
METHOD:PUBLISH
X-WR-CALNAME:Alaska Outdoor Digest
X-ORIGINAL-URL:http://alaskaoutdoordigest.com
X-WR-CALDESC:Events for Alaska Outdoor Digest
BEGIN:VEVENT
DTSTART;TZID=America/Anchorage:20171101T190000
DTEND;TZID=America/Anchorage:20171101T190000
DTSTAMP:20260424T040529
CREATED:20171023T163748Z
LAST-MODIFIED:20171023T163748Z
UID:2075-1509562800-1509562800@alaskaoutdoordigest.com
SUMMARY:Mat Valley Fish Game Advisory Committee
DESCRIPTION:The Mat Valley Fish & Game Advisory Committee will hold an election meeting on Wednesday\, November 1st at 7 pm at the Palmer Moose Lodge\, located at 1136 S Cobb St\, Palmer. Other items on the agenda include conclude discussion on Board of Game Statewide proposals and any other business that may properly come before the committee. For more information contact Herb Mansavage at 841-8928. \n
URL:http://alaskaoutdoordigest.com/event/mat-valley-fish-game-advisory-committee-2/
END:VEVENT
END:VCALENDAR