BEGIN:VCALENDAR
VERSION:2.0
PRODID:-//Alaska Outdoor Digest - ECPv4.6.1//NONSGML v1.0//EN
CALSCALE:GREGORIAN
METHOD:PUBLISH
X-WR-CALNAME:Alaska Outdoor Digest
X-ORIGINAL-URL:http://alaskaoutdoordigest.com
X-WR-CALDESC:Events for Alaska Outdoor Digest
BEGIN:VEVENT
DTSTART;TZID=America/Anchorage:20170504T180000
DTEND;TZID=America/Anchorage:20170504T200000
DTSTAMP:20260424T022725
CREATED:20170503T193336Z
LAST-MODIFIED:20170503T193912Z
UID:1222-1493920800-1493928000@alaskaoutdoordigest.com
SUMMARY:Kotzebue Federal Subsistence Hearing
DESCRIPTION:Kotzebue 6:00-9:00 p.m.\, May 4 Northwest Arctic Heritage Center 171 Third Ave.\, Kotzebue\, Alaska 99752 Teleconference: TOLL FREE (888) 455-5897  Passcode: 3344290 \n
URL:http://alaskaoutdoordigest.com/event/kotzebue-federal-subsistence-hearing/
END:VEVENT
END:VCALENDAR