BEGIN:VCALENDAR
VERSION:2.0
PRODID:-//Alaska Outdoor Digest - ECPv4.6.1//NONSGML v1.0//EN
CALSCALE:GREGORIAN
METHOD:PUBLISH
X-WR-CALNAME:Alaska Outdoor Digest
X-ORIGINAL-URL:http://alaskaoutdoordigest.com
X-WR-CALDESC:Events for Alaska Outdoor Digest
BEGIN:VEVENT
DTSTART;TZID=UTC+0:20170420T183000
DTEND;TZID=UTC+0:20170420T183000
DTSTAMP:20260424T130745
CREATED:20170407T061523Z
LAST-MODIFIED:20170407T061523Z
UID:797-1492713000-1492713000@alaskaoutdoordigest.com
SUMMARY:Kenai/Soldotna Fish & Game Advisory Committee
DESCRIPTION:The Kenai/Soldotna Fish & Game Advisory Committee will hold an election meeting on Thursday\, April 20th at 6:30 pm at the Soldotna Sports Center conference room located at 538 Arena Avenue.  For more information contact Mike Crawford at 252-2919. \n
URL:http://alaskaoutdoordigest.com/event/kenaisoldotna-fish-game-advisory-committee/
END:VEVENT
END:VCALENDAR