BEGIN:VCALENDAR
VERSION:2.0
PRODID:-//Alaska Outdoor Digest - ECPv4.6.1//NONSGML v1.0//EN
CALSCALE:GREGORIAN
METHOD:PUBLISH
X-WR-CALNAME:Alaska Outdoor Digest
X-ORIGINAL-URL:http://alaskaoutdoordigest.com
X-WR-CALDESC:Events for Alaska Outdoor Digest
BEGIN:VEVENT
DTSTART;TZID=America/Anchorage:20170922T193000
DTEND;TZID=America/Anchorage:20170922T213000
DTSTAMP:20260424T053406
CREATED:20170912T213155Z
LAST-MODIFIED:20170912T213155Z
UID:1943-1506108600-1506115800@alaskaoutdoordigest.com
SUMMARY:IFF Flyfishing Film Fest
DESCRIPTION:Short and feature length films on all things flyfishing. Doors open at 7:00 p.m.  Film begins at 7:30 p.m.  Tickets are also available for purchase at Mossy’s Fly Shop and\, if available\, at the door on the day of the event for $18.00 per ticket. \nFor more information\, please contact event organizer at info@flyfilmfest.com \n
URL:http://alaskaoutdoordigest.com/event/iff-flyfishing-film-fest/
LOCATION:717 West Third\, Anchorage\, AK
END:VEVENT
END:VCALENDAR