BEGIN:VCALENDAR
VERSION:2.0
PRODID:-//Alaska Outdoor Digest - ECPv4.6.1//NONSGML v1.0//EN
CALSCALE:GREGORIAN
METHOD:PUBLISH
X-WR-CALNAME:Alaska Outdoor Digest
X-ORIGINAL-URL:http://alaskaoutdoordigest.com
X-WR-CALDESC:Events for Alaska Outdoor Digest
BEGIN:VEVENT
DTSTART;TZID=America/Anchorage:20170426T180000
DTEND;TZID=America/Anchorage:20170426T200000
DTSTAMP:20260424T113222
CREATED:20170424T175929Z
LAST-MODIFIED:20170424T175929Z
UID:1148-1493229600-1493236800@alaskaoutdoordigest.com
SUMMARY:Homer meeting on 2017 lower Cook Inlet fishing regs
DESCRIPTION:\n\n\n\n\n\n\n \nThe Alaska Department of Fish and Game Division of Sport Fish\, Alaska State Troopers\, and US Coast Guard will be hosting a public meeting for sport anglers and charter operators April 26\, from 6 to 8pm at the Alaska Islands and Ocean Visitor Center in Homer.  The purpose of the meeting is to review sport fishing regulatory changes stemming from recent Board of Fisheries meetings\, address questions regarding saltwater charter logbooks\, and to review vessel and boating safety tips. \nFor more information\, call Barbi Failor at 235-8191. \n\n\n\n\n\n\n\n\n
URL:http://alaskaoutdoordigest.com/event/homer-meeting-on-2017-lower-cook-inlet-fishing-regs/
LOCATION:Homer\, AK
END:VEVENT
END:VCALENDAR