BEGIN:VCALENDAR
VERSION:2.0
PRODID:-//Alaska Outdoor Digest - ECPv4.6.1//NONSGML v1.0//EN
CALSCALE:GREGORIAN
METHOD:PUBLISH
X-WR-CALNAME:Alaska Outdoor Digest
X-ORIGINAL-URL:http://alaskaoutdoordigest.com
X-WR-CALDESC:Events for Alaska Outdoor Digest
BEGIN:VEVENT
DTSTART;TZID=America/Anchorage:20170509T180000
DTEND;TZID=America/Anchorage:20170509T200000
DTSTAMP:20260423T231644
CREATED:20170503T193505Z
LAST-MODIFIED:20170503T193505Z
UID:1224-1494352800-1494360000@alaskaoutdoordigest.com
SUMMARY:Federal Subsistence Hearing Utqiaqvik
DESCRIPTION:Utqiagvik (Barrow) 6:00-8:00 p.m.\, May 9 Inupiat Heritage Center 5421 North Star Street\, Barrow\, Alaska 99723 Teleconference: TOLL FREE (888) 455-5897  Passcode: 3344290 \n
URL:http://alaskaoutdoordigest.com/event/federal-subsistence-hearing-utqiaqvik/
END:VEVENT
END:VCALENDAR