BEGIN:VCALENDAR
VERSION:2.0
PRODID:-//Alaska Outdoor Digest - ECPv4.6.1//NONSGML v1.0//EN
CALSCALE:GREGORIAN
METHOD:PUBLISH
X-WR-CALNAME:Alaska Outdoor Digest
X-ORIGINAL-URL:http://alaskaoutdoordigest.com
X-WR-CALDESC:Events for Alaska Outdoor Digest
BEGIN:VEVENT
DTSTART;TZID=America/Anchorage:20170503T180000
DTEND;TZID=America/Anchorage:20170503T200000
DTSTAMP:20260424T053021
CREATED:20170503T193224Z
LAST-MODIFIED:20170503T193834Z
UID:1220-1493834400-1493841600@alaskaoutdoordigest.com
SUMMARY:Federal Subsistence Hearing to close Unit 23
DESCRIPTION:Public Hearings announced for Wildlife Special Action Request WSA17-03 to close Federal public lands in Unit 23 to caribou hunting by non-Federally qualified users. \nNome 6:00-8:00 p.m.\, May 3 Aurora Inn 302 Front Street\, Nome\, Alaska  99762 Teleconference: TOLL FREE (888) 455-5897  Passcode: 3344290 \n
URL:http://alaskaoutdoordigest.com/event/federal-subsistence-hearing-to-close-unit-23-26/
END:VEVENT
END:VCALENDAR