BEGIN:VCALENDAR
VERSION:2.0
PRODID:-//Alaska Outdoor Digest - ECPv4.6.1//NONSGML v1.0//EN
CALSCALE:GREGORIAN
METHOD:PUBLISH
X-WR-CALNAME:Alaska Outdoor Digest
X-ORIGINAL-URL:http://alaskaoutdoordigest.com
X-WR-CALDESC:Events for Alaska Outdoor Digest
BEGIN:VEVENT
DTSTART;TZID=America/Anchorage:20170428T173000
DTEND;TZID=America/Anchorage:20170428T210000
DTSTAMP:20260424T083611
CREATED:20170427T220451Z
LAST-MODIFIED:20170427T220451Z
UID:1167-1493400600-1493413200@alaskaoutdoordigest.com
SUMMARY:Ducks Unlimited Military Hunter's Banquet
DESCRIPTION:
URL:http://alaskaoutdoordigest.com/event/ducks-unlimited-military-hunters-banquet/
LOCATION:1600 Gambell\, Anchorage
END:VEVENT
END:VCALENDAR