BEGIN:VCALENDAR
VERSION:2.0
PRODID:-//Alaska Outdoor Digest - ECPv4.6.1//NONSGML v1.0//EN
CALSCALE:GREGORIAN
METHOD:PUBLISH
X-WR-CALNAME:Alaska Outdoor Digest
X-ORIGINAL-URL:http://alaskaoutdoordigest.com
X-WR-CALDESC:Events for Alaska Outdoor Digest
BEGIN:VEVENT
DTSTART;VALUE=DATE:20170501
DTEND;VALUE=DATE:20170502
DTSTAMP:20260424T070046
CREATED:20170430T235112Z
LAST-MODIFIED:20170430T235112Z
UID:1194-1493596800-1493683199@alaskaoutdoordigest.com
SUMMARY:Deadline for hunting proposals to BOG
DESCRIPTION:Monday deadline for making hunting reg proposals to Board of Game \n \n
URL:http://alaskaoutdoordigest.com/event/deadline-for-hunting-proposals-to-bog/
END:VEVENT
END:VCALENDAR