BEGIN:VCALENDAR
VERSION:2.0
PRODID:-//Alaska Outdoor Digest - ECPv4.6.1//NONSGML v1.0//EN
CALSCALE:GREGORIAN
METHOD:PUBLISH
X-WR-CALNAME:Alaska Outdoor Digest
X-ORIGINAL-URL:http://alaskaoutdoordigest.com
X-WR-CALDESC:Events for Alaska Outdoor Digest
BEGIN:VEVENT
DTSTART;TZID=America/Anchorage:20171024T190000
DTEND;TZID=America/Anchorage:20171024T190000
DTSTAMP:20260423T231707
CREATED:20171023T163958Z
LAST-MODIFIED:20171023T163958Z
UID:2079-1508871600-1508871600@alaskaoutdoordigest.com
SUMMARY:Copper River/PWS Fish Game Advisory Committee
DESCRIPTION:The Copper River/PWS Fish & Game Advisory Committee will meet Tuesday\, October 24\, 2017 at 7PM. Meeting location: PWS Aquaculture Corporation conference room\, located at 500 Main St.\, Cordova. Agenda: PWS Board of Fisheries proposal review\, anterless moose hunt reauthorization. For more information contact Tom Carpenter 424- 3101. To TELECONFERENCE into this meeting dial 1-800-504-8071\, access code 2672354. \n
URL:http://alaskaoutdoordigest.com/event/copper-riverpws-fish-game-advisory-committee/
END:VEVENT
END:VCALENDAR