BEGIN:VCALENDAR
VERSION:2.0
PRODID:-//Alaska Outdoor Digest - ECPv4.6.1//NONSGML v1.0//EN
CALSCALE:GREGORIAN
METHOD:PUBLISH
X-WR-CALNAME:Alaska Outdoor Digest
X-ORIGINAL-URL:http://alaskaoutdoordigest.com
X-WR-CALDESC:Events for Alaska Outdoor Digest
BEGIN:VEVENT
DTSTART;TZID=America/Anchorage:20170630T100000
DTEND;TZID=America/Anchorage:20170630T170000
DTSTAMP:20260424T040600
CREATED:20170527T191656Z
LAST-MODIFIED:20170527T191656Z
UID:1483-1498816800-1498842000@alaskaoutdoordigest.com
SUMMARY:Armed Services YMCA Shoot for the Troops
DESCRIPTION:New sporting clays shooting event to benefit the Armed Services YMCA of Alaska and the work it does to support active duty military families in Alaska.  This is a 100-target sporting clays shoot\, at Birchwood Recreation and Shooting Park.  Two shooting sessions\, 10 a.m. and 1 p.m.\, with complimentary lunch at noon.   Teams of five $1250; individual shooters $275\, which includes ammunition\, round\, commemorative t-shirt and lunch. More at asymca.org/alaska. \n
URL:http://alaskaoutdoordigest.com/event/armed-services-ymca-shoot-for-the-troops/
LOCATION:Eagle River\, Alaska
END:VEVENT
END:VCALENDAR