BEGIN:VCALENDAR
VERSION:2.0
PRODID:-//Alaska Outdoor Digest - ECPv4.6.1//NONSGML v1.0//EN
CALSCALE:GREGORIAN
METHOD:PUBLISH
X-WR-CALNAME:Alaska Outdoor Digest
X-ORIGINAL-URL:http://alaskaoutdoordigest.com
X-WR-CALDESC:Events for Alaska Outdoor Digest
BEGIN:VEVENT
DTSTART;TZID=America/Anchorage:20171121T183000
DTEND;TZID=America/Anchorage:20171121T203000
DTSTAMP:20260424T083513
CREATED:20171110T180255Z
LAST-MODIFIED:20171110T180255Z
UID:2118-1511289000-1511296200@alaskaoutdoordigest.com
SUMMARY:Anchorage Fish Game Committee
DESCRIPTION:The Anchorage Fish & Game Advisory Game Subcommittee will meet on Tuesday\, November 21\, 2017 at 6:30 pm at Cabela’s conference room\, located at 155 W 104th Avenue.  Agenda will include BOG proposal recommendations for the Central/Southwest Region starting with Proposal 70.  For more information contact Frank Neumann at 529-0892. \n
URL:http://alaskaoutdoordigest.com/event/anchorage-fish-game-committee/
LOCATION:155 W 104th Avenue\, Anchorage\, AK
END:VEVENT
END:VCALENDAR