BEGIN:VCALENDAR
VERSION:2.0
PRODID:-//Alaska Outdoor Digest - ECPv4.6.1//NONSGML v1.0//EN
CALSCALE:GREGORIAN
METHOD:PUBLISH
X-WR-CALNAME:Alaska Outdoor Digest
X-ORIGINAL-URL:http://alaskaoutdoordigest.com
X-WR-CALDESC:Events for Alaska Outdoor Digest
BEGIN:VEVENT
DTSTART;TZID=America/Anchorage:20171003T183000
DTEND;TZID=America/Anchorage:20171003T203000
DTSTAMP:20260424T040709
CREATED:20170912T182316Z
LAST-MODIFIED:20170912T182316Z
UID:1934-1507055400-1507062600@alaskaoutdoordigest.com
SUMMARY:Anchorage Fish Game Advisory Committee meeting
DESCRIPTION:The Anchorage Fish & Game Advisory Committee will meet Tuesday\, Oct. 3\, 6:30 p.m. at the King Career Center located at 2650 E Northern Lights Blvd in order to hold an organizational meeting\, possibly discuss BOF ACRs\, and begin preparing comments on the Statewide Board of Game proposals.  For more information contact Frank Neumann at 529-0892. \n  \n
URL:http://alaskaoutdoordigest.com/event/anchorage-fish-game-advisory-committee-meeting/
LOCATION: 2650 E Northern Lights Blvd\, Anchorage\, AK
END:VEVENT
END:VCALENDAR