BEGIN:VCALENDAR
VERSION:2.0
PRODID:-//Alaska Outdoor Digest - ECPv4.6.1//NONSGML v1.0//EN
CALSCALE:GREGORIAN
METHOD:PUBLISH
X-WR-CALNAME:Alaska Outdoor Digest
X-ORIGINAL-URL:http://alaskaoutdoordigest.com
X-WR-CALDESC:Events for Alaska Outdoor Digest
BEGIN:VEVENT
DTSTART;TZID=America/Anchorage:20171024T183000
DTEND;TZID=America/Anchorage:20171024T183000
DTSTAMP:20260424T004753
CREATED:20171023T163522Z
LAST-MODIFIED:20171023T163522Z
UID:2071-1508869800-1508869800@alaskaoutdoordigest.com
SUMMARY:Anchorage Fish Game Advisory Committee
DESCRIPTION:The Anchorage Fish & Game Advisory Committee will meet on Tuesday\, October 24th at the William Hernandez Fish Hatchery\, located at 941 Reeve Blvd   at 6:30 pm. Agenda will include finalizing BOG Statewide proposal recommendations. For more information contact Frank Neumann at 529-0892. \n
URL:http://alaskaoutdoordigest.com/event/anchorage-fish-game-advisory-committee-2/
END:VEVENT
END:VCALENDAR