BEGIN:VCALENDAR
VERSION:2.0
PRODID:-//Alaska Outdoor Digest - ECPv4.6.1//NONSGML v1.0//EN
CALSCALE:GREGORIAN
METHOD:PUBLISH
X-WR-CALNAME:Alaska Outdoor Digest
X-ORIGINAL-URL:http://alaskaoutdoordigest.com
X-WR-CALDESC:Events for Alaska Outdoor Digest
BEGIN:VEVENT
DTSTART;TZID=UTC+0:20170411T183000
DTEND;TZID=UTC+0:20170411T183000
DTSTAMP:20260424T230558
CREATED:20170412T063520Z
LAST-MODIFIED:20170412T063520Z
UID:843-1491935400-1491935400@alaskaoutdoordigest.com
SUMMARY:Alaska Sportfishing Association April meeting
DESCRIPTION:The Alaska Sportfishing Association will hold its April meeting\, next to last of the spring\, tonight at the Anchorage Denny’s\, Benson and Denali.  Meal is 630 p.m.\, meeting starts at 7 p.m. \nAgenda includes: \n\nElection of board of directors;\nDetails on development of a new public fishing area near Hope\nDetails on integration of ASFA and Kenai River Sportfishing Association\n\n
URL:http://alaskaoutdoordigest.com/event/alaska-sportfishing-association-april-meeting/
LOCATION:4849 Potter Crest Circle\, Anchorage\, AK
END:VEVENT
END:VCALENDAR