BEGIN:VCALENDAR
VERSION:2.0
PRODID:-//Alaska Outdoor Digest - ECPv4.6.1//NONSGML v1.0//EN
CALSCALE:GREGORIAN
METHOD:PUBLISH
X-WR-CALNAME:Alaska Outdoor Digest
X-ORIGINAL-URL:http://alaskaoutdoordigest.com
X-WR-CALDESC:Events for Alaska Outdoor Digest
BEGIN:VEVENT
DTSTART;TZID=America/Anchorage:20170506T173000
DTEND;TZID=America/Anchorage:20170506T203000
DTSTAMP:20260423T232030
CREATED:20170501T200631Z
LAST-MODIFIED:20170501T200631Z
UID:1212-1494091800-1494102600@alaskaoutdoordigest.com
SUMMARY:Alaska Safari Club spring meeting and elections
DESCRIPTION:Spring membership meeting and election of officers. \nGuest speakers Bruce Dale\, Department of Wildlife Conservation\, Tom Brooker\, Director of Sportfish\, and Randy Zarnke\, Alaska Trappers Association. \nMay 6\, 5:30 p.m.\, American Legion Post 1\, 800 Fireweed Lane\, Anchorage. \n$35 includes dinner. Tickets are available at http://www.aksafariclub.org/or call 907-980-9018. \n
URL:http://alaskaoutdoordigest.com/event/alaska-safari-club-spring-meeting-and-elections/
LOCATION:Anchorage\, AK\, United States
END:VEVENT
END:VCALENDAR