BEGIN:VCALENDAR
VERSION:2.0
PRODID:-//Alaska Outdoor Digest - ECPv4.6.1//NONSGML v1.0//EN
CALSCALE:GREGORIAN
METHOD:PUBLISH
X-WR-CALNAME:Alaska Outdoor Digest
X-ORIGINAL-URL:http://alaskaoutdoordigest.com
X-WR-CALDESC:Events for Alaska Outdoor Digest
BEGIN:VEVENT
DTSTART;TZID=America/Anchorage:20170510T130000
DTEND;TZID=America/Anchorage:20170510T170000
DTSTAMP:20260423T214605
CREATED:20170508T145320Z
LAST-MODIFIED:20170508T145320Z
UID:1293-1494421200-1494435600@alaskaoutdoordigest.com
SUMMARY:Alaska House Resources Standing Committee
DESCRIPTION:(H)RESOURCES Standing Committee*\nMay 10 Wednesday 1:00 PM BARNES 124\n+ Bills Previously Heard/Scheduled TELECONFERENCED\n· May include the following bills:\no HB 17 FISH & GAME CONSERVATION PROGRAM\no HB 39 GAME MANAGEMENT REPRESENTATIVE JOSEPHSON\no HB 40 TRAPPING NEAR PUBLIC TRAILS REPRESENTATIVE JOSEPHSON\no HB 101 UNINTENTIONAL HARVEST OF BIG GAME\no HB 107 FISH ENHANCEMENT PERMITS \n
URL:http://alaskaoutdoordigest.com/event/alaska-house-resources-standing-committee/
END:VEVENT
END:VCALENDAR