BEGIN:VCALENDAR
VERSION:2.0
PRODID:-//Alaska Outdoor Digest - ECPv4.6.1//NONSGML v1.0//EN
CALSCALE:GREGORIAN
METHOD:PUBLISH
X-WR-CALNAME:Alaska Outdoor Digest
X-ORIGINAL-URL:http://alaskaoutdoordigest.com
X-WR-CALDESC:Events for Alaska Outdoor Digest
BEGIN:VEVENT
DTSTART;TZID=America/Anchorage:20170509T100000
DTEND;TZID=America/Anchorage:20170509T120000
DTSTAMP:20260423T214718
CREATED:20170508T145115Z
LAST-MODIFIED:20170508T145150Z
UID:1291-1494324000-1494331200@alaskaoutdoordigest.com
SUMMARY:Alaska House Fisheries Special Committees
DESCRIPTION:(H)FISHERIES Special Committee*\nMay 09 Tuesday 10:00 AM GRUENBERG 120\n+ Bills Previously Heard/Scheduled TELECONFERENCED\n· May include the following bills:\no HB 29 BAN SALE OF GENETICALLY MODIFIED FISH\no HB 88 BOARD OF FISHERIES MEMBERSHIP\no HB 149 BOARDS OF FISHERIES AND GAME MEETINGS\no HB 154 HOLITNA BASIN FISH & GAME RESERVE\no HB 188 COMM. FISH. ENTRY PERMITS; LOANS; TRUSTS\no HB 199 FISH/WILDLIFE HABITAT PROTECTION; PERMITS\no HB 231 CFEC: BD. SALARY;STAFF CLASSIFIED SERVICE\no HB 237 SALMON ESCAPEMENT GOALS \n
URL:http://alaskaoutdoordigest.com/event/alaska-house-fisheries-special-committees/
END:VEVENT
END:VCALENDAR