BEGIN:VCALENDAR
VERSION:2.0
PRODID:-//Alaska Outdoor Digest - ECPv4.6.1//NONSGML v1.0//EN
CALSCALE:GREGORIAN
METHOD:PUBLISH
X-WR-CALNAME:Alaska Outdoor Digest
X-ORIGINAL-URL:http://alaskaoutdoordigest.com
X-WR-CALDESC:Events for Alaska Outdoor Digest
BEGIN:VEVENT
DTSTART;TZID=America/Anchorage:20170519T110000
DTEND;TZID=America/Anchorage:20170519T170000
DTSTAMP:20260424T023413
CREATED:20170504T182213Z
LAST-MODIFIED:20170504T182504Z
UID:1235-1495191600-1495213200@alaskaoutdoordigest.com
SUMMARY:Alaska Boy Scouts Michael L Foster Sporting Clays Shoot
DESCRIPTION:https://www.scoutingalaska.org/sportingclays17 \n
URL:http://alaskaoutdoordigest.com/event/alaska-boy-scouts-michael-l-foster-sporting-clays-shoot/
LOCATION:Grouse Ridge 6967 E Tex-Al Drive Wasilla\, AK 99654 Location Phone: (907) 376-2473
END:VEVENT
END:VCALENDAR