BEGIN:VCALENDAR
VERSION:2.0
PRODID:-//Alaska Outdoor Digest - ECPv4.6.1//NONSGML v1.0//EN
CALSCALE:GREGORIAN
METHOD:PUBLISH
X-WR-CALNAME:Alaska Outdoor Digest
X-ORIGINAL-URL:http://alaskaoutdoordigest.com
X-WR-CALDESC:Events for Alaska Outdoor Digest
BEGIN:VEVENT
DTSTART;TZID=America/Anchorage:20171010T183000
DTEND;TZID=America/Anchorage:20171010T203000
DTSTAMP:20260424T084524
CREATED:20171010T195334Z
LAST-MODIFIED:20171010T195334Z
UID:2020-1507660200-1507667400@alaskaoutdoordigest.com
SUMMARY:Ak Sportfishing Assoc meeting
DESCRIPTION:\nThe second meeting of the Alaska Sport Fishing Association for the 2017-2018 period is Tuesday October 10\, 6:30 p.m.\, Denny’s restaurant\, corner of Benson & Denali. All meetings are open to the public.\n\n\nASFA is a Statewide public service organization working to improve the quality of Alaska fisheries for the sport and personal use/subsistence fisherman. \nWe exist to bring those people together to protect\, enhance and improve the Alaskan Fishing Experience. We draw upon our members for insights\, information\, tips and ideas that will improve that experience.  Objectives include public education about the fisheries resource as a whole\,  fisheries quality enhancement which includes improved access\, fish population enhancement by various means\, conservation and remediation of habitat\, youth education and to help guide stewardship of the Alaska fishing. \n\n\nAny member of the public may become a member at this meeting and participate in the November 14 Officer Elections.\n\nThose interested in running for President\, Vice President\, Secretary/ Treasurer should attend and be prepared to indicate why they are interested and wish to be considered for one of those positions.  ASFA will also elect/appoint ASFA Chapter Directors for Anchorage\, Mat-Su\, JBER\, Fairbanks\, Kenai\, Homer and Seward.\n\nProject Directors are needed for the following initiatives:\nIntegration\, to integrate other organizations into ASFA to increase influence with the BOF and the State Legislature\nLeadworks\, a  fundraising project\nMembership\nBoard of Fish Proposals\nShip Creek Cleanup and Enhancement Director\n\nThese positions offer the opportunity to meaningfully contribute to the sport and subsistence communities in Alaska and provide significant individual personal fulfillment. Details and descriptions of each position\, and for more information on ASFA\, call Martin Meigs at 907- 250-5232.\nhttp://alaskasfa.org\n\n
URL:http://alaskaoutdoordigest.com/event/ak-sportfishing-assoc-meeting/
LOCATION:4849 Potter Crest Circle\, Anchorage\, AK
END:VEVENT
END:VCALENDAR