BEGIN:VCALENDAR
VERSION:2.0
PRODID:-//Alaska Outdoor Digest - ECPv4.6.1//NONSGML v1.0//EN
CALSCALE:GREGORIAN
METHOD:PUBLISH
X-WR-CALNAME:Alaska Outdoor Digest
X-ORIGINAL-URL:http://alaskaoutdoordigest.com
X-WR-CALDESC:Events for Alaska Outdoor Digest
BEGIN:VEVENT
DTSTART;TZID=America/Anchorage:20171014T100000
DTEND;TZID=America/Anchorage:20171015T170000
DTSTAMP:20260424T070818
CREATED:20171010T211415Z
LAST-MODIFIED:20171010T211415Z
UID:2025-1507975200-1508086800@alaskaoutdoordigest.com
SUMMARY:AK Gun Collectors Gun Show
DESCRIPTION:Alaska Gun Collector’s Association 2017 Gun Show\, Sullivan Arena in Anchorage.  Oct 14-15\, 10 a.m.-5 p.m.  General admission $7\, military $5. www.akguncollectors@gmail.com \n
URL:http://alaskaoutdoordigest.com/event/ak-gun-collectors-gun-show/
LOCATION:1600 Gambell\, Anchorage
END:VEVENT
END:VCALENDAR