BEGIN:VCALENDAR
VERSION:2.0
PRODID:-//Alaska Outdoor Digest - ECPv4.6.1//NONSGML v1.0//EN
CALSCALE:GREGORIAN
METHOD:PUBLISH
X-WR-CALNAME:Alaska Outdoor Digest
X-ORIGINAL-URL:http://alaskaoutdoordigest.com
X-WR-CALDESC:Events for Alaska Outdoor Digest
BEGIN:VEVENT
DTSTART;TZID=America/Anchorage:20171007T170000
DTEND;TZID=America/Anchorage:20171007T210000
DTSTAMP:20260424T070934
CREATED:20170926T011819Z
LAST-MODIFIED:20170926T011819Z
UID:1974-1507395600-1507410000@alaskaoutdoordigest.com
SUMMARY:24th Annual Alaska Outdoor Council Mat-Su Banquet
DESCRIPTION:Fundraiser to benefit the Alaska Outdoor Council.  Evangelo’s in Wasilla. Banquet\, raffle\, door prizes and live auction. Tickets $60 singles and $110 couples. Purchase tickets at membership@alaskaoutdoorcouncil.com or by calling 907-260-5723. Or online at www.alaskaoutdoorcouncil.com/events. \n  \n
URL:http://alaskaoutdoordigest.com/event/24th-annual-alaska-outdoor-council-mat-su-banquet/
LOCATION:Wasilla\, AK\, United States
END:VEVENT
END:VCALENDAR