BEGIN:VCALENDAR
VERSION:2.0
PRODID:-//Alaska Outdoor Digest - ECPv4.6.1//NONSGML v1.0//EN
CALSCALE:GREGORIAN
METHOD:PUBLISH
X-WR-CALNAME:Alaska Outdoor Digest
X-ORIGINAL-URL:http://alaskaoutdoordigest.com
X-WR-CALDESC:Events for Alaska Outdoor Digest
BEGIN:VEVENT
DTSTART;TZID=America/Anchorage:20170506T090000
DTEND;TZID=America/Anchorage:20170507T170000
DTSTAMP:20260424T004832
CREATED:20170504T172738Z
LAST-MODIFIED:20170504T172738Z
UID:1232-1494061200-1494176400@alaskaoutdoordigest.com
SUMMARY:20th Annual Great Alaska Aviation Gathering
DESCRIPTION:\n\n\n\n\n\nhttp://www.alaskaairmen.org/\n\n\n\n\n\n\n
URL:http://alaskaoutdoordigest.com/event/20th-annual-great-alaska-aviation-gathering/
END:VEVENT
END:VCALENDAR