BEGIN:VCALENDAR
VERSION:2.0
PRODID:-//Alaska Outdoor Digest - ECPv4.6.1//NONSGML v1.0//EN
CALSCALE:GREGORIAN
METHOD:PUBLISH
X-WR-CALNAME:Alaska Outdoor Digest
X-ORIGINAL-URL:http://alaskaoutdoordigest.com
X-WR-CALDESC:Events for Alaska Outdoor Digest
BEGIN:VEVENT
DTSTART;VALUE=DATE:20180216
DTEND;VALUE=DATE:20180219
DTSTAMP:20260424T024818
CREATED:20180102T161845Z
LAST-MODIFIED:20180102T161845Z
UID:2218-1518739200-1518998399@alaskaoutdoordigest.com
SUMMARY:2018 Anchorage Boat Show
DESCRIPTION:2018 Anchorage Boat Show\nAlaska’s Biggest Boat Show!\nFeb. 16-18th\, 2018\nDena’ina Civic and Convention Center\n600 W. 6th Ave.\nAnchorage\, Alaska 99501 \n
URL:http://alaskaoutdoordigest.com/event/2018-anchorage-boat-show/
LOCATION:600 west 6th\, Anchorage\, AK 99516\, AK\, United States
END:VEVENT
END:VCALENDAR